BEGIN:VCALENDAR
VERSION:2.0
PRODID:-//Descúbrete Zaragoza - ECPv6.15.13//NONSGML v1.0//EN
CALSCALE:GREGORIAN
METHOD:PUBLISH
X-ORIGINAL-URL:https://www.descubretezaragoza.com
X-WR-CALDESC:Eventos para Descúbrete Zaragoza
REFRESH-INTERVAL;VALUE=DURATION:PT1H
X-Robots-Tag:noindex
X-PUBLISHED-TTL:PT1H
BEGIN:VTIMEZONE
TZID:Europe/Madrid
BEGIN:DAYLIGHT
TZOFFSETFROM:+0100
TZOFFSETTO:+0200
TZNAME:CEST
DTSTART:20220327T010000
END:DAYLIGHT
BEGIN:STANDARD
TZOFFSETFROM:+0200
TZOFFSETTO:+0100
TZNAME:CET
DTSTART:20221030T010000
END:STANDARD
BEGIN:DAYLIGHT
TZOFFSETFROM:+0100
TZOFFSETTO:+0200
TZNAME:CEST
DTSTART:20230326T010000
END:DAYLIGHT
BEGIN:STANDARD
TZOFFSETFROM:+0200
TZOFFSETTO:+0100
TZNAME:CET
DTSTART:20231029T010000
END:STANDARD
BEGIN:DAYLIGHT
TZOFFSETFROM:+0100
TZOFFSETTO:+0200
TZNAME:CEST
DTSTART:20240331T010000
END:DAYLIGHT
BEGIN:STANDARD
TZOFFSETFROM:+0200
TZOFFSETTO:+0100
TZNAME:CET
DTSTART:20241027T010000
END:STANDARD
BEGIN:DAYLIGHT
TZOFFSETFROM:+0100
TZOFFSETTO:+0200
TZNAME:CEST
DTSTART:20250330T010000
END:DAYLIGHT
BEGIN:STANDARD
TZOFFSETFROM:+0200
TZOFFSETTO:+0100
TZNAME:CET
DTSTART:20251026T010000
END:STANDARD
BEGIN:DAYLIGHT
TZOFFSETFROM:+0100
TZOFFSETTO:+0200
TZNAME:CEST
DTSTART:20260329T010000
END:DAYLIGHT
BEGIN:STANDARD
TZOFFSETFROM:+0200
TZOFFSETTO:+0100
TZNAME:CET
DTSTART:20261025T010000
END:STANDARD
END:VTIMEZONE
BEGIN:VEVENT
DTSTART;TZID=Europe/Madrid:20250228T190000
DTEND;TZID=Europe/Madrid:20250228T203000
DTSTAMP:20260420T122809
CREATED:20250124T131804Z
LAST-MODIFIED:20250224T175901Z
UID:4697-1740769200-1740774600@www.descubretezaragoza.com
SUMMARY:El Arte de crecer: Construyendo una vida plena y auténtica.
DESCRIPTION:Es una serie de talleres presenciales diseñados para acompañarte en un viaje de\nautodescubrimiento\, transformación y empoderamiento.\nA través de dinámicas prácticas\, reflexiones guiadas y herramientas efectivas\,\naprenderás a conectar con tus valores\, gestionar tus emociones\, fortalecer tu\nautoestima y desbloquear tu potencial para vivir con propósito y autenticidad.\nEn este espacio\, encontrarás inspiración y apoyo para superar obstáculos\, redefinir\ntus metas y construir una vida que realmente refleje quién eres. Porque crecer no\nes solo cambiar\, es abrazar el proceso de convertirte en la mejor versión de ti.  ¡Es\ntu momento de brillar!  \n*14 Febrero: CAMBIA EL CHIP 40€\nDescúbrete y alcanza tu potencial\nObjetivo del taller: acompañar a los asistentes a conocer como funcionamos\nmentalmente\, identificación de áreas de vida a mejorar y estrategias para reforzar\nacciones diarias.  \n*19 Febrero: REESCRIBE TU HISTORIA 40€\nTransformando creencias para una vida plena\nObjetivo: guiar a los asistentes en el proceso de identificar y reformular su\nnarrativa personal\, usando creencias potenciadoras como base para construir una\nvida más plena.  \n*28 Febrero: HAZ MATCH CONTIGO 40€\nEl camino a tu mejor versión\nObjetivo: Identificar talentos y fortalezas únicos y aprender a utilizarlas como\nherramienta para el crecimiento personal y profesional. \nEN CASO DE QUERER REALIZAR LOS TRES TALLERES MENSUALES\, EL PRECIO CON DESCUENTO SERÁ DE 95€
URL:https://www.descubretezaragoza.com/evento/zaragoza-formacion-talleres-presenciales-crecimiento-personal-desarrollo-identidad-pensamientos/
LOCATION:Centro Joaquín Roncal\, C/ San Braulio 5-7\, Zaragoza\, Zaragoza\, 50003\, España
ATTACH;FMTTYPE=image/jpeg:https://www.descubretezaragoza.com/wp-content/uploads/2025/01/6abb3f54-eed1-47a0-88eb-7abd6c06a7fc_compressed-1.jpg
ORGANIZER;CN="Desc%C3%BAbrete Zaragoza":MAILTO:formacion@descubretezaragoza.com
END:VEVENT
BEGIN:VEVENT
DTSTART;TZID=Europe/Madrid:20240516T190000
DTEND;TZID=Europe/Madrid:20240516T203000
DTSTAMP:20260420T122809
CREATED:20240418T153850Z
LAST-MODIFIED:20240502T154420Z
UID:4586-1715886000-1715891400@www.descubretezaragoza.com
SUMMARY:Presentación Certificación Experto en Coaching EFIC
DESCRIPTION:⚡𝐃𝐞𝐬𝐜𝐮𝐛𝐫𝐞 𝐞𝐥 𝐂𝐮𝐫𝐬𝐨 𝐄𝐱𝐩𝐞𝐫𝐭𝐨 𝐞𝐧 𝐂𝐨𝐚𝐜𝐡𝐢𝐧𝐠 de EFIC⚡ \n𝑵𝒐 𝒉𝒂𝒚 𝒆𝒙𝒄𝒖𝒔𝒂𝒔 𝒑𝒂𝒓𝒂 𝒏𝒐 𝒅𝒂𝒓 𝒆𝒍 𝒑𝒂𝒔𝒐 𝒂 𝒄𝒐𝒏𝒐𝒄𝒆𝒓 𝒆𝒍 𝒑𝒓𝒐𝒈𝒓𝒂𝒎𝒂 𝒍𝒊́𝒅𝒆𝒓 𝒆𝒏 𝒉𝒂𝒃𝒍𝒂 𝒉𝒊𝒔𝒑𝒂𝒏𝒂 𝒒𝒖𝒆 𝒉𝒂 𝒕𝒓𝒂𝒏𝒔𝒇𝒐𝒓𝒎𝒂𝒅𝒐 𝒂 𝒎𝒊𝒍𝒆𝒔 𝒅𝒆 𝒑𝒆𝒓𝒔𝒐𝒏𝒂𝒔 𝒕𝒂𝒏𝒕𝒐 𝒂 𝒏𝒊𝒗𝒆𝒍 𝒑𝒆𝒓𝒔𝒐𝒏𝒂𝒍 𝒄𝒐𝒎𝒐 𝒑𝒓𝒐𝒇𝒆𝒔𝒊𝒐𝒏𝒂𝒍. \n¿𝐏𝐚𝐫𝐚 𝐪𝐮𝐞́ 𝐚𝐬𝐢𝐬𝐭𝐢𝐫 𝐚 𝐧𝐮𝐞𝐬𝐭𝐫𝐨 𝐞𝐯𝐞𝐧𝐭𝐨❓ \n✅ Para conoce de primera mano el programa más prestigioso y reconocido a nivel nacional e internacional en el campo del coaching profesional certificado. \n✅ Para descubrir cómo más de 4000 alumnos en todo el mundo han transformado sus vidas y carreras profesionales con nuestra formación en Coaching en Estado Puro\, personal y ejecutivo. \n✅ Para aprender de la fuente de nuestra  Directora General de EFIC\, @izaskun_unzain_ \n✅ Para participar en una demostración práctica en vivo y visualizar el impacto que el coaching podría tener en ti. \n🗺️¿𝐃𝐨́𝐧𝐝𝐞 𝐥𝐨 𝐯𝐚𝐬 𝐚 𝐯𝐢𝐯𝐢𝐫❓En ZARAGOZA de forma PRESENCIAL Y GRATUITO. \n🎟️ 𝐑𝐞𝐬𝐞𝐫𝐯𝐚 𝐭𝐮 𝐩𝐥𝐚𝐳𝐚:https://www.descubretezaragoza.com/evento/presentacion-certificacion-experto-en-coaching-efic/
URL:https://www.descubretezaragoza.com/evento/presentacion-certificacion-experto-en-coaching-efic/
LOCATION:Hotel NH Ciudad de Zaragoza. Sala Somport\, Avd. César Augusto 125\, Zaragoza\, Zaragoza\, 50003\, España
ATTACH;FMTTYPE=image/jpeg:https://www.descubretezaragoza.com/wp-content/uploads/2024/04/WhatsApp-Image-2024-04-18-at-13.21.32.jpeg
ORGANIZER;CN="Desc%C3%BAbrete Zaragoza":MAILTO:formacion@descubretezaragoza.com
END:VEVENT
BEGIN:VEVENT
DTSTART;TZID=Europe/Madrid:20231028T100000
DTEND;TZID=Europe/Madrid:20231029T140000
DTSTAMP:20260420T122809
CREATED:20230524T074509Z
LAST-MODIFIED:20230804T101819Z
UID:4405-1698487200-1698588000@www.descubretezaragoza.com
SUMMARY:Gestión emocional a través del juego.
DESCRIPTION:Una de las paradojas de la condición humana moderna es cierta lucha constante entre aquello que el individuo busca ser\, aquello que la sociedad le pide ser y aquello que puede ser bajo circunstancias determinadas. \nNuestro objetivo con esta formación es que cada una de las personas que nos acompañan tomen conciencia de quienes son\, a donde quieren llegar\, y en ese camino qué tienen que sacar de su mochila y qué tienen que introducir. \nNuestros comportamientos están dirigidos por aquello que pensamos y sentimos…¿Y si dejamos por unas horas volar la imaginación y jugamos\, expresamos nuestras emociones y nos comunicamos siendo más espontáneos? \n“El juego es la forma más elevada de investigación” \nAlbert Einstein
URL:https://www.descubretezaragoza.com/evento/improcoaching/
LOCATION:Hotel Alda Centro\, Zaragoza\, Zaragoza\, España
ATTACH;FMTTYPE=image/png:https://www.descubretezaragoza.com/wp-content/uploads/2023/05/gestion-enocionala-traves-del-juego.-3.png
ORGANIZER;CN="Desc%C3%BAbrete Zaragoza":MAILTO:formacion@descubretezaragoza.com
END:VEVENT
BEGIN:VEVENT
DTSTART;TZID=Europe/Madrid:20231026T190000
DTEND;TZID=Europe/Madrid:20231026T203000
DTSTAMP:20260420T122809
CREATED:20231002T184051Z
LAST-MODIFIED:20231002T184051Z
UID:4565-1698346800-1698352200@www.descubretezaragoza.com
SUMMARY:Aprendiendo GROW y Objetivos SMART  "DE LA META A LA REALIDAD"
DESCRIPTION:  \nNuevo taller presencial en Zaragoza\n¡Atención a todas las personas que busquen el éxito personal y/o profesional\ny con ganas de alcanzar metas!\n¿Estáis list@s para sumergiros en un emocionante taller que hará crecer sus habilidades y alcanzar sueños?\n¡Bienvenidos al taller sobre la metodología GROW y objetivos SMART\, donde aprenderemos a triunfar con una sonrisa!\n¿Qué puedes esperar?\nMetodología GROW: Aprenderemos a cultivar nuestro potencial\, establecer una visión clara y diseñar un plan de acción que nos lleve directo al éxito.\nObjetivos SMART: Desmitificaremos los objetivos y los haremos inteligentes\, medibles y\, lo más importante\, alcanzables. ¡Nada nos detendrá!\n Alegría y buen ambiente: Aquí\, la risa y el aprendizaje caminan de la mano. ¡El camino hacia el éxito no tiene por qué ser aburrido!\nDinámicas: Utilizaremos actividades creativas y lúdicas para mantener nuestra mente activa y despierta durante todo el taller. ¡Aprender será toda una aventura!\nConexiones poderosas: La colaboración y el apoyo mutuo son la clave para alcanzar objetivos juntos.\n¡Únete a nosotras en el taller GROW y SMART ¡🎉 ¡Reserva tu lugar ahora mismo y asegura tu pasaporte hacia un futuro lleno de logros y alegría! \nDía 26 de octubre\nHora 19:00h\nHotel Alda Centro Zaragoza C/ Santiago 12
URL:https://www.descubretezaragoza.com/evento/aprendiendo-grow-y-objetivos-smart-de-la-meta-a-la-realidad/
LOCATION:Hotel Alda Centro Zaragoza\, C/ Santiago 12\, Zaragoza\, Zaragoza\, 50003\, España
ORGANIZER;CN="Desc%C3%BAbrete Zaragoza":MAILTO:formacion@descubretezaragoza.com
END:VEVENT
BEGIN:VEVENT
DTSTART;VALUE=DATE:20231007
DTEND;VALUE=DATE:20231008
DTSTAMP:20260420T122809
CREATED:20230524T075202Z
LAST-MODIFIED:20230614T170108Z
UID:4409-1696636800-1696723199@www.descubretezaragoza.com
SUMMARY:Segundo encuentro EFIC Alumni
DESCRIPTION:¿Eres alumn@ o antiguo alumn@ de EFIC?\nEn EFIC queremos sentir cerca a toda nuestra comunidad de alumn@s. Así que\, vamos a reunir a todos nuestra comunidad de EFIC ALUMNI\, en un encuentro único y exclusivo\, para así podernos juntar todos en un mismo sitio físico donde poder tocarnos\, abrazarnos y conocernos aún más. 😊 \nOs traemos El SEGUNDO ENCUENTRO EFIC ALUMNI. \nSerá el día 7 DE OCTUBRE DE 2023 EN MADRID. \nUn encuentro de UN DÍA\, donde disfrutaremos de experiencias\, diversión\, aprendizaje\, crecimiento\, fiesta\, risas\, emociones\, networking y sobre todo muchos\, pero muchos REENCUENTROS\, que permanecerá en tu mente para el resto de tu vida.
URL:https://www.descubretezaragoza.com/evento/segundo-encuentro-efic-alumni/
LOCATION:Por concretar
ATTACH;FMTTYPE=image/jpeg:https://www.descubretezaragoza.com/wp-content/uploads/2023/05/CARTEL-EFIC-ALUMNI-7-OCTUBRE.jpg
ORGANIZER;CN="Desc%C3%BAbrete Zaragoza":MAILTO:formacion@descubretezaragoza.com
END:VEVENT
BEGIN:VEVENT
DTSTART;TZID=Europe/Madrid:20230916T160000
DTEND;TZID=Europe/Madrid:20230916T200000
DTSTAMP:20260420T122809
CREATED:20230524T080400Z
LAST-MODIFIED:20230804T102259Z
UID:4417-1694880000-1694894400@www.descubretezaragoza.com
SUMMARY:"Conecta con tus Valores"
DESCRIPTION:¿Qué harás en este taller?\nPararte a reflexionar dónde estás ahora con calma\, con serenidad\, a través de una metodología que te ayude a reflexionar sobre ello en profundidad. \nDefinir qué es lo realmente importante en estos momentos de tu vida. Y eso\, tú ya lo sabes\, son tus valores. Las decisiones que tomas\, están condicionadas por tus valores\, por aquello que realmente te importa y perderlos de vista hace que te pierdas tú también. Por eso necesitas herramientas sencillas y clarificadores que te ayuden a conectar con ellos. \nSaber qué es lo que quieres ahora y en adelante. Márcarte metas claras y concisas\, con la claridad de saber que están alineadas con quien tú eres ahora y con lo que es importante para ti. \nMarcarte un plan\, trazar el camino de manera visual entre donde estás y dónde quieres ir\, teniendo en cuenta tus valores para asegurarte que este plan es congruente con ellos y puedas dar los pasos de la forma más armónica y segura posible. \nSeguir el plan y revisar que lo estés cumpliendo: esta es la parte que muchos olvidan. Ir revisando aquellas acciones que te has marcado y viendo tus avances\, para detectar si tienes que corregir algo y dando los pasos adecuados en caso de que sea así.
URL:https://www.descubretezaragoza.com/evento/taller-conecta-con-tus-valores-zaragoza-formacion-gestion-emocional-coaching/
LOCATION:Hotel Alda Centro Zaragoza\, C/ Santiago 12\, Zaragoza\, Zaragoza\, 50003\, España
ATTACH;FMTTYPE=image/jpeg:https://www.descubretezaragoza.com/wp-content/uploads/2023/05/Conecta-con-tus-valores.jpg
ORGANIZER;CN="Desc%C3%BAbrete Zaragoza":MAILTO:formacion@descubretezaragoza.com
END:VEVENT
BEGIN:VEVENT
DTSTART;TZID=Europe/Madrid:20230907T190000
DTEND;TZID=Europe/Madrid:20230907T203000
DTSTAMP:20260420T122809
CREATED:20230816T111302Z
LAST-MODIFIED:20230923T152513Z
UID:4538-1694113200-1694118600@www.descubretezaragoza.com
SUMMARY:Taller "Diseña tu historia" Autoexploración y desarrollo personal.
DESCRIPTION:¡Saludos\, buscador@s de crecimiento personal\, aventurer@s del autoconocimiento y curios@s de la vida! 🌟 \n¿Estás list@ para embarcarte en un emocionante viaje hacia la toma de conciencia en todas las áreas de tu vida? \nEn nuestro taller de crecimiento personal\, nos adentraremos en el fascinante laberinto del autodescubrimiento\, donde desbloquearemos las puertas hacia una versión más plena y auténtica de ti mism@. \nImagina un mundo en el que puedas comprender tus emociones\, desarrollar una mentalidad positiva y enfrentar tus miedos con valentía. A través de ejercicios dinámicos y prácticos\, te guiaremos en el camino de la autorreflexión y la toma de conciencia en cada aspecto de tu vida: relaciones personales\, carrera profesional\, salud y bienestar\, y hasta tus sueños más profundos. \nTe acompañaremos en esta maravillosa travesía\, brindándote las herramientas necesarias para superar obstáculos y alcanzar tus metas. Descubrirás cómo alinear tus pensamientos\, emociones y acciones para crear la vida que realmente deseas vivir. \nRecuerda\, la vida es un lienzo en blanco\, y tú tienes el pincel en tus manos. \n¡Es hora de pintar la obra maestra de tu vida! 🎨💪 \n  \n¿Qué áreas de tu vida te gustaría mejorar? \n  \nExploraremos y evaluaremos diferentes áreas importantes de tu vida para ayudarte a alcanzar un mayor equilibrio y bienestar\, a través de una herramienta visual que nos permite identificar las áreas en las que estamos satisfechos y las áreas en las que queremos mejorar. \n¡Vamos a darle vueltas juntos a una vida más plena y satisfactoria! \nTe esperamos: \nDía jueves 7 de Septiembre 2023 \nHorario: 19:00 H. \nHotel Alda Centro Zaragoza. C/ Santiago 12\, Zaragoza \nAportación 20 € \nAforo limitado \nRecuerda que este taller es una herramienta para la reflexión y el crecimiento personal. A medida que trabajas en las diferentes áreas de tu vida\, podrás realizar ajustes y reevaluar tu progreso periódicamente. \n  \n 
URL:https://www.descubretezaragoza.com/evento/taller-presencial-autoexploracion-y-desarrollo-personal-disena-tu-historia/
LOCATION:Hotel Alda Centro Zaragoza\, C/ Santiago 12\, Zaragoza\, Zaragoza\, 50003\, España
ATTACH;FMTTYPE=image/png:https://www.descubretezaragoza.com/wp-content/uploads/2023/08/TALLER-AUTOEXPLORACION-Y-DESARROLLO-PERSONAL.png
ORGANIZER;CN="Desc%C3%BAbrete Zaragoza":MAILTO:formacion@descubretezaragoza.com
END:VEVENT
BEGIN:VEVENT
DTSTART;TZID=Europe/Madrid:20230601T190000
DTEND;TZID=Europe/Madrid:20230601T203000
DTSTAMP:20260420T122809
CREATED:20230510T084632Z
LAST-MODIFIED:20230524T074639Z
UID:4358-1685646000-1685651400@www.descubretezaragoza.com
SUMMARY:Jornadas de Coaching en Estado Puro de EFIC
DESCRIPTION:Ha llegado el momento del Coaching!\nMomento de CAMBIAR\, momento de AVANZAR y momento de CRECER.\nEl momento de CAMBIAR\, el momento de AVANZAR\, el momento de CRECER personal y profesionalmente\, el momento de PRESTARTE ATENCIÓN\, el momento de VIVIR EL PRESENTE y pensar en TU FUTURO…ha llegado el momento de formarte en Coaching en Estado Puro. \nSi todavía estás dudando en dar el paso que te cambiará para siempre\, te dejo algunos de los puntos que suelen resaltar nuestros alumnos una vez realizan la formación. \n\nPor tener el mejor equipo docente del mercado\, con una amplia experiencia en el mundo del Coaching como en la docencia.\nPor lo avales Internacionales y nacionales\, ICF\, ASESCO\, OCC Internacional…\nPor poder repetir o recuperar de forma totalmente gratuita cualquier tema o bloque en cualquier Sede o formato.\nPor poder disponer de un servicio de acompañamiento individualizado con cada alumno para resolver sus dudas e inquietudes.\nPor tener un servicio de mentorizaciones grupales continuo\, mes a mes con un facilitador certificado por ICF.\nPor tener visibilidad en cuanto te certificas al poder incluirte de forma totalmente gratuita dentro del buscador de coaches creado por EFIC.\n\nPor estos y otros motivos no dudes en asistir a este Encuentro Gratuito de Coaching en Estado Puro donde conocer de forma vivencial el Coaching. \nAprenderás qué es Coaching en Estado Puro y cómo te puede ayudar a alcanzar objetivos. \nSerá un encuentro de 90 minutos donde se realizarán dos charlas con herramientas teóricas y prácticas en directo de la mano de Chema Portero y de nuestras socias-delegadas en Zaragoza\, Carol Artero y Gloria Madurga . También contaremos con la presencia de Ana Artal y Elisa Pueyo\, alumnas de diferentes promociones de EFIC. \nConocerás las salidas profesionales de una secotr en continuo crecimiento. \nAdemás presentaremos el Programa Experto en Coaching de EFIC que comienza en Febrero de 2024. \nCUANDO: \nDía 01 de Junio de 19:00h a 20:30h. \nHotel NH Cidudad de Zaragoza ( Sala Somport)\, frente a las Murallas Romanas. \nEscríbenos un email a formacion@descubretezaragoza.com y cuéntanos tus dudas\, tus inquietudes\, tus impresiones… \n¡Un abrazo!\nEl equipo de Descúbrete Zaragoza
URL:https://www.descubretezaragoza.com/evento/jornadas-de-coaching-en-estado-puro-de-efic/
LOCATION:Hotel NC Ciudad de Zaragoza\, Avenida Cesar Augusto 125\, Zaragoza\, Zaragoza\, 50003\, España
ATTACH;FMTTYPE=image/jpeg:https://www.descubretezaragoza.com/wp-content/uploads/2023/05/WhatsApp-Image-2023-05-05-at-12.11.50-1.jpeg
ORGANIZER;CN="Desc%C3%BAbrete Zaragoza":MAILTO:formacion@descubretezaragoza.com
END:VEVENT
END:VCALENDAR